BEGIN:VCALENDAR
VERSION:2.0
PRODID:-//Yes And MTL - ECPv6.15.17.1//NONSGML v1.0//EN
CALSCALE:GREGORIAN
METHOD:PUBLISH
X-ORIGINAL-URL:https://yesandmtl.com
X-WR-CALDESC:Events for Yes And MTL
REFRESH-INTERVAL;VALUE=DURATION:PT1H
X-Robots-Tag:noindex
X-PUBLISHED-TTL:PT1H
BEGIN:VTIMEZONE
TZID:America/Toronto
BEGIN:DAYLIGHT
TZOFFSETFROM:-0500
TZOFFSETTO:-0400
TZNAME:EDT
DTSTART:20230312T070000
END:DAYLIGHT
BEGIN:STANDARD
TZOFFSETFROM:-0400
TZOFFSETTO:-0500
TZNAME:EST
DTSTART:20231105T060000
END:STANDARD
BEGIN:DAYLIGHT
TZOFFSETFROM:-0500
TZOFFSETTO:-0400
TZNAME:EDT
DTSTART:20240310T070000
END:DAYLIGHT
BEGIN:STANDARD
TZOFFSETFROM:-0400
TZOFFSETTO:-0500
TZNAME:EST
DTSTART:20241103T060000
END:STANDARD
BEGIN:DAYLIGHT
TZOFFSETFROM:-0500
TZOFFSETTO:-0400
TZNAME:EDT
DTSTART:20250309T070000
END:DAYLIGHT
BEGIN:STANDARD
TZOFFSETFROM:-0400
TZOFFSETTO:-0500
TZNAME:EST
DTSTART:20251102T060000
END:STANDARD
END:VTIMEZONE
BEGIN:VEVENT
DTSTART;TZID=America/Toronto:20240825T110000
DTEND;TZID=America/Toronto:20240825T130000
DTSTAMP:20260425T111131
CREATED:20240804T040056Z
LAST-MODIFIED:20240804T040056Z
UID:282-1724583600-1724590800@yesandmtl.com
SUMMARY:Improv 4 Breakfast
DESCRIPTION:1454 rue Atateken \n\nA collaborative practice session for improvisers / Every Sunday at 11am!
URL:https://yesandmtl.com/event/improv-4-breakfast-12/
CATEGORIES:Workshops/Classes
END:VEVENT
BEGIN:VEVENT
DTSTART;TZID=America/Toronto:20240825T160000
DTEND;TZID=America/Toronto:20240825T180000
DTSTAMP:20260425T111131
CREATED:20240811T040131Z
LAST-MODIFIED:20240811T040131Z
UID:290-1724601600-1724608800@yesandmtl.com
SUMMARY:Sunday Night Improv Workshop
DESCRIPTION:Theatre St Catherine: 64 St Catherine St E \n\nOur workshop is a lively\, engaging experience that leads directly into our show. Every Sunday\, you can join us to practice scenes and learn about story-based improv\, guided by a variety of great teachers. Sunday 4-6\, always free.
URL:https://yesandmtl.com/event/sunday-night-improv-workshop-13/
CATEGORIES:Workshops/Classes
END:VEVENT
END:VCALENDAR