BEGIN:VCALENDAR
VERSION:2.0
PRODID:-//Yes And MTL - ECPv6.15.17.1//NONSGML v1.0//EN
CALSCALE:GREGORIAN
METHOD:PUBLISH
X-ORIGINAL-URL:https://yesandmtl.com
X-WR-CALDESC:Events for Yes And MTL
REFRESH-INTERVAL;VALUE=DURATION:PT1H
X-Robots-Tag:noindex
X-PUBLISHED-TTL:PT1H
BEGIN:VTIMEZONE
TZID:America/Toronto
BEGIN:DAYLIGHT
TZOFFSETFROM:-0500
TZOFFSETTO:-0400
TZNAME:EDT
DTSTART:20230312T070000
END:DAYLIGHT
BEGIN:STANDARD
TZOFFSETFROM:-0400
TZOFFSETTO:-0500
TZNAME:EST
DTSTART:20231105T060000
END:STANDARD
BEGIN:DAYLIGHT
TZOFFSETFROM:-0500
TZOFFSETTO:-0400
TZNAME:EDT
DTSTART:20240310T070000
END:DAYLIGHT
BEGIN:STANDARD
TZOFFSETFROM:-0400
TZOFFSETTO:-0500
TZNAME:EST
DTSTART:20241103T060000
END:STANDARD
BEGIN:DAYLIGHT
TZOFFSETFROM:-0500
TZOFFSETTO:-0400
TZNAME:EDT
DTSTART:20250309T070000
END:DAYLIGHT
BEGIN:STANDARD
TZOFFSETFROM:-0400
TZOFFSETTO:-0500
TZNAME:EST
DTSTART:20251102T060000
END:STANDARD
END:VTIMEZONE
BEGIN:VEVENT
DTSTART;TZID=America/Toronto:20241015T100000
DTEND;TZID=America/Toronto:20241119T113000
DTSTAMP:20260425T073855
CREATED:20240916T084149Z
LAST-MODIFIED:20240916T084149Z
UID:370-1728986400-1732015800@yesandmtl.com
SUMMARY:Weekly Action Theater classes with Sarah Bild
DESCRIPTION:La Poêle: 5333 Casgrain #307 \norganized by La Poêle Studio \nThis 6-week series offers an introduction to Action Theater\, a unique form of improvisational theatre developed by the American performance artist\, Ruth Zaporah. Fundamental to the practice is an embodied presence in performance\, where the experiencing of the body informs the content\, moment by moment. Through playful and rigorous exercises\, which isolate and recombine movement\, sound and language\, we broaden our range of improvisational skills. Always working from an embodied state\, we develop spatial awareness and access to our imagination\, crafting creative impulses into clear images\, stories and dreamscapes. This technique turns the mind inside out\, examines existing habits and opens up new possibilities. We bring attention to the details of our physical choices\, to the quality and range of our vocalizing. Working in solos\, duets\, trios and also as an ensemble\, the class starts with physical and vocal warm-ins followed by various exercises\, finishing with informal presentations.
URL:https://yesandmtl.com/event/weekly-action-theater-classes-with-sarah-bild/
CATEGORIES:Workshops/Classes
END:VEVENT
BEGIN:VEVENT
DTSTART;TZID=America/Toronto:20241027T110000
DTEND;TZID=America/Toronto:20241027T130000
DTSTAMP:20260425T073855
CREATED:20241006T040435Z
LAST-MODIFIED:20241006T040435Z
UID:435-1730026800-1730034000@yesandmtl.com
SUMMARY:Improv 4 Breakfast
DESCRIPTION:1454 rue Atateken \n\nA collaborative practice session for improvisers / Every Sunday at 11am!
URL:https://yesandmtl.com/event/improv-4-breakfast-20/
CATEGORIES:Workshops/Classes
END:VEVENT
BEGIN:VEVENT
DTSTART;TZID=America/Toronto:20241027T160000
DTEND;TZID=America/Toronto:20241027T180000
DTSTAMP:20260425T073855
CREATED:20241008T170613Z
LAST-MODIFIED:20241008T170613Z
UID:441-1730044800-1730052000@yesandmtl.com
SUMMARY:One-Hit Wonder: Musical Improv short form
DESCRIPTION:Theatre Sainte-Catherine: 264 St Catherine St E\, Montreal\, Quebec H2X 1L4 \norganized by Musical Improv Montreal \nAll are welcome to play for the day and explore the art of musical improv! These fun-filled sessions are for both beginner and experienced musical improvisers\, where you will learn and practice short form musical ditties and scenes\, appropriate for folks of all levels of experience. If you’re slightly intrigued or already addicted to Musical Improv\, you don’t want to miss out on these one-off workshops! Come jam out and see what the fuss is about! \nNo experience necessary. \nNEXT ONE-HIT WONDER: SUNDAY\, OCTOBER 27\, 4:00-6:00PM\nAt Theatre Sainte-Catherine\nSelected participants from the workshop will be invited to participate in the show at 7pm.\nTaught by Adina Katz with John Gilbert on the keys\n$0 FREE\, just show up!
URL:https://yesandmtl.com/event/one-hit-wonder-musical-improv-short-form/
CATEGORIES:Workshops/Classes
END:VEVENT
BEGIN:VEVENT
DTSTART;TZID=America/Toronto:20241027T160000
DTEND;TZID=America/Toronto:20241027T180000
DTSTAMP:20260425T073855
CREATED:20241013T040228Z
LAST-MODIFIED:20241013T040228Z
UID:448-1730044800-1730052000@yesandmtl.com
SUMMARY:Sunday Night Improv Workshop
DESCRIPTION:Theatre St Catherine: 64 St Catherine St E \n\nOur workshop is a lively\, engaging experience that leads directly into our show. Every Sunday\, you can join us to practice scenes and learn about story-based improv\, guided by a variety of great teachers. Sunday 4-6\, always free.
URL:https://yesandmtl.com/event/sunday-night-improv-workshop-22/
CATEGORIES:Workshops/Classes
END:VEVENT
END:VCALENDAR