BEGIN:VCALENDAR
VERSION:2.0
PRODID:-//Yes And MTL - ECPv6.15.17.1//NONSGML v1.0//EN
CALSCALE:GREGORIAN
METHOD:PUBLISH
X-ORIGINAL-URL:https://yesandmtl.com
X-WR-CALDESC:Events for Yes And MTL
REFRESH-INTERVAL;VALUE=DURATION:PT1H
X-Robots-Tag:noindex
X-PUBLISHED-TTL:PT1H
BEGIN:VTIMEZONE
TZID:America/Toronto
BEGIN:DAYLIGHT
TZOFFSETFROM:-0500
TZOFFSETTO:-0400
TZNAME:EDT
DTSTART:20240310T070000
END:DAYLIGHT
BEGIN:STANDARD
TZOFFSETFROM:-0400
TZOFFSETTO:-0500
TZNAME:EST
DTSTART:20241103T060000
END:STANDARD
BEGIN:DAYLIGHT
TZOFFSETFROM:-0500
TZOFFSETTO:-0400
TZNAME:EDT
DTSTART:20250309T070000
END:DAYLIGHT
BEGIN:STANDARD
TZOFFSETFROM:-0400
TZOFFSETTO:-0500
TZNAME:EST
DTSTART:20251102T060000
END:STANDARD
BEGIN:DAYLIGHT
TZOFFSETFROM:-0500
TZOFFSETTO:-0400
TZNAME:EDT
DTSTART:20260308T070000
END:DAYLIGHT
BEGIN:STANDARD
TZOFFSETFROM:-0400
TZOFFSETTO:-0500
TZNAME:EST
DTSTART:20261101T060000
END:STANDARD
END:VTIMEZONE
BEGIN:VEVENT
DTSTART;TZID=America/Toronto:20250205T183000
DTEND;TZID=America/Toronto:20250226T203000
DTSTAMP:20260425T002608
CREATED:20250130T024814Z
LAST-MODIFIED:20250130T024814Z
UID:619-1738780200-1740601800@yesandmtl.com
SUMMARY:Organic Narrative | 4 week class
DESCRIPTION:: 1454 Atateken \norganized by Improv 4 Breakfast \nOrganic Narrative | Wednesdays Feb 5-26 from 6:30-8:30pm \nIn this 4 week class you’ll learn:\nThe basics of narrative structure\nThree different narrative starts\nTips and tricks for a solid narrative \nPrerequisites\nYou must understand the basic concept of a scene and know how to edit your own scenes\nUnsure? Send me an email! (improv4breakfast@gmail.com)
URL:https://yesandmtl.com/event/organic-narrative-4-week-class/
CATEGORIES:Workshops/Classes
END:VEVENT
BEGIN:VEVENT
DTSTART;TZID=America/Toronto:20250209T160000
DTEND;TZID=America/Toronto:20250209T180000
DTSTAMP:20260425T002608
CREATED:20250126T050357Z
LAST-MODIFIED:20250126T050357Z
UID:616-1739116800-1739124000@yesandmtl.com
SUMMARY:Sunday Night Improv Workshop
DESCRIPTION:Theatre St Catherine: 64 St Catherine St E \n\nOur workshop is a lively\, engaging experience that leads directly into our show. Every Sunday\, you can join us to practice scenes and learn about story-based improv\, guided by a variety of great teachers. Sunday 4-6\, always free.
URL:https://yesandmtl.com/event/sunday-night-improv-workshop-36/
CATEGORIES:Workshops/Classes
END:VEVENT
END:VCALENDAR