BEGIN:VCALENDAR
VERSION:2.0
PRODID:-//Yes And MTL - ECPv6.15.17.1//NONSGML v1.0//EN
CALSCALE:GREGORIAN
METHOD:PUBLISH
X-WR-CALNAME:Yes And MTL
X-ORIGINAL-URL:https://yesandmtl.com
X-WR-CALDESC:Events for Yes And MTL
REFRESH-INTERVAL;VALUE=DURATION:PT1H
X-Robots-Tag:noindex
X-PUBLISHED-TTL:PT1H
BEGIN:VTIMEZONE
TZID:America/Toronto
BEGIN:DAYLIGHT
TZOFFSETFROM:-0500
TZOFFSETTO:-0400
TZNAME:EDT
DTSTART:20240310T070000
END:DAYLIGHT
BEGIN:STANDARD
TZOFFSETFROM:-0400
TZOFFSETTO:-0500
TZNAME:EST
DTSTART:20241103T060000
END:STANDARD
BEGIN:DAYLIGHT
TZOFFSETFROM:-0500
TZOFFSETTO:-0400
TZNAME:EDT
DTSTART:20250309T070000
END:DAYLIGHT
BEGIN:STANDARD
TZOFFSETFROM:-0400
TZOFFSETTO:-0500
TZNAME:EST
DTSTART:20251102T060000
END:STANDARD
BEGIN:DAYLIGHT
TZOFFSETFROM:-0500
TZOFFSETTO:-0400
TZNAME:EDT
DTSTART:20260308T070000
END:DAYLIGHT
BEGIN:STANDARD
TZOFFSETFROM:-0400
TZOFFSETTO:-0500
TZNAME:EST
DTSTART:20261101T060000
END:STANDARD
END:VTIMEZONE
BEGIN:VEVENT
DTSTART;TZID=America/Toronto:20250219T190000
DTEND;TZID=America/Toronto:20250402T210000
DTSTAMP:20260424T222125
CREATED:20250204T230859Z
LAST-MODIFIED:20250204T230859Z
UID:633-1739991600-1743627600@yesandmtl.com
SUMMARY:Musical Improv Level 1
DESCRIPTION:The House of Actors: 3713 St Laurent Blvd Suite 202\, Montreal\, Quebec H2X 2V7 \norganized by Musical Improv Montreal \nOver 6 sessions\, Musical Improv Level 1 will introduce you to the world of musical improv through exercises\, games\, and scene work. We will learn the basics of how to improvise melody and lyrics of a song and how to apply these elements within a scene. We will start to practice creating music within song structures that will make you look like a magician on stage. You will walk away from this course with the initial training necessary for long form musical improv competency which is also the prerequisite to further your study of improvising a full length musical (a.k.a. a musical narrative or long form musical). No grad show. \nPrerequisite: Musical Fun Times and permission from the instructor. Priority spots reserved for students who have most recently completed Musical Fun Times.
URL:https://yesandmtl.com/event/musical-improv-level-1/
CATEGORIES:Workshops/Classes
END:VEVENT
BEGIN:VEVENT
DTSTART;TZID=America/Toronto:20250316T190000
DTEND;TZID=America/Toronto:20250416T210000
DTSTAMP:20260424T222125
CREATED:20250307T034013Z
LAST-MODIFIED:20250307T034013Z
UID:685-1742151600-1744837200@yesandmtl.com
SUMMARY:Musical Fun Times
DESCRIPTION:The Wiggle Room: 3874 St Laurent Blvd\, Montreal\, Quebec H2W 1Y2 \norganized by Musical Improv Montreal \nMusical Fun Times is a great introduction to the art of musical improv\, as well as a strong foundation for basic improv comedy and stage performance. For those who are curious about musical improv\, who want to give it a try without jumping into performance (…yet?)\, or for more experienced musical improvisers who want to go back and reinforce the foundations without all the structure and song forms\, this class is accessible to all levels and is super fun and free stylin’ – it definitely lives up to its name! \nThis course is designed for anyone who wants to begin their musical improv journey\, gaining practice and acquiring skills to sing and create group musical comedy songs and scenes in a no-pressure environment. \nNo experience required. No show.
URL:https://yesandmtl.com/event/musical-fun-times/
CATEGORIES:Workshops/Classes
END:VEVENT
BEGIN:VEVENT
DTSTART;TZID=America/Toronto:20250323T110000
DTEND;TZID=America/Toronto:20250323T130000
DTSTAMP:20260424T222125
CREATED:20250302T050055Z
LAST-MODIFIED:20250302T050055Z
UID:674-1742727600-1742734800@yesandmtl.com
SUMMARY:Every Sunday Improv 4 Breakfast Workshop
DESCRIPTION:Drop in improv workshops every Sunday from 11am-1pm\n$10 drop in\n1454 rue Atateken
URL:https://yesandmtl.com/event/every-sunday-improv-4-breakfast-workshop-6/
CATEGORIES:Workshops/Classes
END:VEVENT
BEGIN:VEVENT
DTSTART;TZID=America/Toronto:20250323T160000
DTEND;TZID=America/Toronto:20250323T180000
DTSTAMP:20260424T222125
CREATED:20250309T050345Z
LAST-MODIFIED:20250309T050345Z
UID:688-1742745600-1742752800@yesandmtl.com
SUMMARY:Sunday Night Improv Workshop
DESCRIPTION:Theatre St Catherine: 64 St Catherine St E \n\nOur workshop is a lively\, engaging experience that leads directly into our show. Every Sunday\, you can join us to practice scenes and learn about story-based improv\, guided by a variety of great teachers. Sunday 4-6\, always free.
URL:https://yesandmtl.com/event/sunday-night-improv-workshop-42/
CATEGORIES:Workshops/Classes
END:VEVENT
END:VCALENDAR