BEGIN:VCALENDAR
VERSION:2.0
PRODID:-//Yes And MTL - ECPv6.15.17.1//NONSGML v1.0//EN
CALSCALE:GREGORIAN
METHOD:PUBLISH
X-ORIGINAL-URL:https://yesandmtl.com
X-WR-CALDESC:Events for Yes And MTL
REFRESH-INTERVAL;VALUE=DURATION:PT1H
X-Robots-Tag:noindex
X-PUBLISHED-TTL:PT1H
BEGIN:VTIMEZONE
TZID:America/Toronto
BEGIN:DAYLIGHT
TZOFFSETFROM:-0500
TZOFFSETTO:-0400
TZNAME:EDT
DTSTART:20240310T070000
END:DAYLIGHT
BEGIN:STANDARD
TZOFFSETFROM:-0400
TZOFFSETTO:-0500
TZNAME:EST
DTSTART:20241103T060000
END:STANDARD
BEGIN:DAYLIGHT
TZOFFSETFROM:-0500
TZOFFSETTO:-0400
TZNAME:EDT
DTSTART:20250309T070000
END:DAYLIGHT
BEGIN:STANDARD
TZOFFSETFROM:-0400
TZOFFSETTO:-0500
TZNAME:EST
DTSTART:20251102T060000
END:STANDARD
BEGIN:DAYLIGHT
TZOFFSETFROM:-0500
TZOFFSETTO:-0400
TZNAME:EDT
DTSTART:20260308T070000
END:DAYLIGHT
BEGIN:STANDARD
TZOFFSETFROM:-0400
TZOFFSETTO:-0500
TZNAME:EST
DTSTART:20261101T060000
END:STANDARD
END:VTIMEZONE
BEGIN:VEVENT
DTSTART;TZID=America/Toronto:20250601T110000
DTEND;TZID=America/Toronto:20250601T130000
DTSTAMP:20260424T170835
CREATED:20250511T040055Z
LAST-MODIFIED:20250511T040055Z
UID:787-1748775600-1748782800@yesandmtl.com
SUMMARY:Every Sunday Improv 4 Breakfast Workshop
DESCRIPTION:Drop in improv workshops every Sunday from 11am-1pm\n$10 drop in\n1454 rue Atateken
URL:https://yesandmtl.com/event/every-sunday-improv-4-breakfast-workshop-16/
CATEGORIES:Workshops/Classes
END:VEVENT
BEGIN:VEVENT
DTSTART;TZID=America/Toronto:20250601T150000
DTEND;TZID=America/Toronto:20250601T170000
DTSTAMP:20260424T170835
CREATED:20250524T230645Z
LAST-MODIFIED:20250524T230645Z
UID:807-1748790000-1748797200@yesandmtl.com
SUMMARY:Scenes n' Songs
DESCRIPTION:The Wiggle Room: 3874 St Laurent Blvd\, Montreal\, Quebec H2W 1Y2 \norganized by Musical Improv Montreal \nWanna have a jam with people who know their song forms and how to bust out the scenes that lead up to them? Feeling like a one off practice sess? Looking to strengthen your scene and song work within different montage formats\, without worrying about long form narratives? Then this class is for you! \nPrerequisite: Musical Improv Level 2 \nTaught by Adina Katz\, with John Gilbert on the keys
URL:https://yesandmtl.com/event/scenes-n-songs/
CATEGORIES:Workshops/Classes
END:VEVENT
BEGIN:VEVENT
DTSTART;TZID=America/Toronto:20250601T160000
DTEND;TZID=America/Toronto:20250601T180000
DTSTAMP:20260424T170835
CREATED:20250518T040022Z
LAST-MODIFIED:20250518T040022Z
UID:797-1748793600-1748800800@yesandmtl.com
SUMMARY:Sunday Night Improv Workshop
DESCRIPTION:Theatre St Catherine: 64 St Catherine St E \n\nOur workshop is a lively\, engaging experience that leads directly into our show. Every Sunday\, you can join us to practice scenes and learn about story-based improv\, guided by a variety of great teachers. Sunday 4-6\, always free.
URL:https://yesandmtl.com/event/sunday-night-improv-workshop-52/
CATEGORIES:Workshops/Classes
END:VEVENT
END:VCALENDAR