BEGIN:VCALENDAR
VERSION:2.0
PRODID:-//Yes And MTL - ECPv6.15.17.1//NONSGML v1.0//EN
CALSCALE:GREGORIAN
METHOD:PUBLISH
X-WR-CALNAME:Yes And MTL
X-ORIGINAL-URL:https://yesandmtl.com
X-WR-CALDESC:Events for Yes And MTL
REFRESH-INTERVAL;VALUE=DURATION:PT1H
X-Robots-Tag:noindex
X-PUBLISHED-TTL:PT1H
BEGIN:VTIMEZONE
TZID:America/Toronto
BEGIN:DAYLIGHT
TZOFFSETFROM:-0500
TZOFFSETTO:-0400
TZNAME:EDT
DTSTART:20240310T070000
END:DAYLIGHT
BEGIN:STANDARD
TZOFFSETFROM:-0400
TZOFFSETTO:-0500
TZNAME:EST
DTSTART:20241103T060000
END:STANDARD
BEGIN:DAYLIGHT
TZOFFSETFROM:-0500
TZOFFSETTO:-0400
TZNAME:EDT
DTSTART:20250309T070000
END:DAYLIGHT
BEGIN:STANDARD
TZOFFSETFROM:-0400
TZOFFSETTO:-0500
TZNAME:EST
DTSTART:20251102T060000
END:STANDARD
BEGIN:DAYLIGHT
TZOFFSETFROM:-0500
TZOFFSETTO:-0400
TZNAME:EDT
DTSTART:20260308T070000
END:DAYLIGHT
BEGIN:STANDARD
TZOFFSETFROM:-0400
TZOFFSETTO:-0500
TZNAME:EST
DTSTART:20261101T060000
END:STANDARD
END:VTIMEZONE
BEGIN:VEVENT
DTSTART;TZID=America/Toronto:20250907T150000
DTEND;TZID=America/Toronto:20251026T170000
DTSTAMP:20260424T120756
CREATED:20250806T135011Z
LAST-MODIFIED:20250806T135011Z
UID:1299-1757257200-1761498000@yesandmtl.com
SUMMARY:Musical Improv Level 1
DESCRIPTION:The Wiggle Room: 3874 St Laurent Blvd\, Montreal\, Quebec H2W 1Y2 \norganized by Musical Improv Montreal \nIn Musical Improv Level 1\, we’ll start to practice improvising music within structures that will make you look like a magician on stage. We will learn the basics of creating songs and applying them to improvised musical scenes. This is a fun and collaborative class where we build skills together as an ensemble\, with ongoing direction and feedback to help you improve. This course will provide you with the initial training and foundational skills needed to begin building a strong musical improv practice.\nNo prerequisite\, Musical Fun Times is recommended. \nSUNDAYS\, 3:00-5:00pm\nSeptember 7\, 14\, 21\, 28\nOctober 5\, 19\, 26 (no class on Oct 12)\nNo class show \nTaught by Adina Katz with Peter Mika on the keysat The Wiggle Room
URL:https://yesandmtl.com/event/musical-improv-level-1-2/
LOCATION:The Wiggle Room\, 3874 St Laurent Blvd\, Montreal\, Quebec\, H2W 1Y2\, Canada
CATEGORIES:Workshops/Classes
END:VEVENT
BEGIN:VEVENT
DTSTART;TZID=America/Toronto:20250908T190000
DTEND;TZID=America/Toronto:20251027T210000
DTSTAMP:20260424T120756
CREATED:20250815T024305Z
LAST-MODIFIED:20250815T024305Z
UID:1315-1757358000-1761598800@yesandmtl.com
SUMMARY:Musical Improv Level 3
DESCRIPTION:The Wiggle Room: 3874 St Laurent Blvd\, Montreal\, Quebec H2W 1Y2 \norganized by Musical Improv Montreal \nIn Musical Improv Level 3\, you’ll put all the pieces together to build long-form\, narrative musicals. You’ll learn how to improvise a complete musical theatre comedy show with a linear story structure\, using all the skills you’ve developed so far. We will strengthen your scene work\, expand your musical repertoire with new song styles\, and learn how to tie every element together. The class culminates in a final\, improvised mini-musical performance presented to an audience. A second act will follow: an audience jam where people can sign up to play with you on stage! \nPrerequisite: Successful completion of Musical Improv Level 2 \nSeptember 8\, 15\, 22\, 29\nOctober 6\, 20\, 27 (no class on Oct 13)\nClass show: Monday\, October 27 \nTaught by Adina Katz with John Gilbert on the keys
URL:https://yesandmtl.com/event/musical-improv-level-3/
LOCATION:The Wiggle Room\, 3874 St Laurent Blvd\, Montreal\, Quebec\, H2W 1Y2\, Canada
CATEGORIES:Workshops/Classes
END:VEVENT
END:VCALENDAR