BEGIN:VCALENDAR
VERSION:2.0
PRODID:-//Yes And MTL - ECPv6.15.17.1//NONSGML v1.0//EN
CALSCALE:GREGORIAN
METHOD:PUBLISH
X-WR-CALNAME:Yes And MTL
X-ORIGINAL-URL:https://yesandmtl.com
X-WR-CALDESC:Events for Yes And MTL
REFRESH-INTERVAL;VALUE=DURATION:PT1H
X-Robots-Tag:noindex
X-PUBLISHED-TTL:PT1H
BEGIN:VTIMEZONE
TZID:America/Toronto
BEGIN:DAYLIGHT
TZOFFSETFROM:-0500
TZOFFSETTO:-0400
TZNAME:EDT
DTSTART:20250309T070000
END:DAYLIGHT
BEGIN:STANDARD
TZOFFSETFROM:-0400
TZOFFSETTO:-0500
TZNAME:EST
DTSTART:20251102T060000
END:STANDARD
BEGIN:DAYLIGHT
TZOFFSETFROM:-0500
TZOFFSETTO:-0400
TZNAME:EDT
DTSTART:20260308T070000
END:DAYLIGHT
BEGIN:STANDARD
TZOFFSETFROM:-0400
TZOFFSETTO:-0500
TZNAME:EST
DTSTART:20261101T060000
END:STANDARD
BEGIN:DAYLIGHT
TZOFFSETFROM:-0500
TZOFFSETTO:-0400
TZNAME:EDT
DTSTART:20270314T070000
END:DAYLIGHT
BEGIN:STANDARD
TZOFFSETFROM:-0400
TZOFFSETTO:-0500
TZNAME:EST
DTSTART:20271107T060000
END:STANDARD
END:VTIMEZONE
BEGIN:VEVENT
DTSTART;TZID=America/Toronto:20260222T110000
DTEND;TZID=America/Toronto:20260222T130000
DTSTAMP:20260419T221759
CREATED:20260201T050026Z
LAST-MODIFIED:20260201T050026Z
UID:1609-1771758000-1771765200@yesandmtl.com
SUMMARY:Every Sunday Improv 4 Breakfast Workshop
DESCRIPTION:Join us at Improv 4 Breakfast where all levels of improv are welcome! \nEvery Sunday we have a new topic to learn. It might be basic technique to advanced theory but we believe anyone can pick it up and add new skills in their repertoire! \nNever tried improv? Come check it out.\nWant more practice? This place is for you!\nWoke up too early on Sunday and are still lying in bed? GET UP AND GET SOME IMPROV 4 BREAKFAST \nEvery Sunday\n11:00am – 1:00pm\n$10 drop in – cash or etrans\n1454 rue atateken
URL:https://yesandmtl.com/event/every-sunday-improv-4-breakfast-workshop-31/
LOCATION:1454 rue Atateken\, 1454 rue Atateken\, Montreal\, Canada
CATEGORIES:Workshops/Classes
END:VEVENT
BEGIN:VEVENT
DTSTART;TZID=America/Toronto:20260222T160000
DTEND;TZID=America/Toronto:20260222T180000
DTSTAMP:20260419T221759
CREATED:20260208T050007Z
LAST-MODIFIED:20260208T050007Z
UID:1616-1771776000-1771783200@yesandmtl.com
SUMMARY:Sunday Night Improv Workshop
DESCRIPTION:Theatre St Catherine: 64 St Catherine St E \n\nOur workshop is a lively\, engaging experience that leads directly into our show. Every Sunday\, you can join us to practice scenes and learn about story-based improv\, guided by a variety of great teachers. Sunday 4-6\, always free.
URL:https://yesandmtl.com/event/sunday-night-improv-workshop-90/
LOCATION:Theatre Saint Catherine\, 264 St Catherine St E\, Montreal\, Quebec\, H2X 1L4\, Canada
CATEGORIES:Workshops/Classes
END:VEVENT
END:VCALENDAR