BEGIN:VCALENDAR
VERSION:2.0
PRODID:-//Yes And MTL - ECPv6.15.17.1//NONSGML v1.0//EN
CALSCALE:GREGORIAN
METHOD:PUBLISH
X-WR-CALNAME:Yes And MTL
X-ORIGINAL-URL:https://yesandmtl.com
X-WR-CALDESC:Events for Yes And MTL
REFRESH-INTERVAL;VALUE=DURATION:PT1H
X-Robots-Tag:noindex
X-PUBLISHED-TTL:PT1H
BEGIN:VTIMEZONE
TZID:America/Toronto
BEGIN:DAYLIGHT
TZOFFSETFROM:-0500
TZOFFSETTO:-0400
TZNAME:EDT
DTSTART:20250309T070000
END:DAYLIGHT
BEGIN:STANDARD
TZOFFSETFROM:-0400
TZOFFSETTO:-0500
TZNAME:EST
DTSTART:20251102T060000
END:STANDARD
BEGIN:DAYLIGHT
TZOFFSETFROM:-0500
TZOFFSETTO:-0400
TZNAME:EDT
DTSTART:20260308T070000
END:DAYLIGHT
BEGIN:STANDARD
TZOFFSETFROM:-0400
TZOFFSETTO:-0500
TZNAME:EST
DTSTART:20261101T060000
END:STANDARD
BEGIN:DAYLIGHT
TZOFFSETFROM:-0500
TZOFFSETTO:-0400
TZNAME:EDT
DTSTART:20270314T070000
END:DAYLIGHT
BEGIN:STANDARD
TZOFFSETFROM:-0400
TZOFFSETTO:-0500
TZNAME:EST
DTSTART:20271107T060000
END:STANDARD
END:VTIMEZONE
BEGIN:VEVENT
DTSTART;TZID=America/Toronto:20260308T150000
DTEND;TZID=America/Toronto:20260426T170000
DTSTAMP:20260419T144000
CREATED:20260223T225813Z
LAST-MODIFIED:20260223T225813Z
UID:1645-1772982000-1777222800@yesandmtl.com
SUMMARY:Musical Improv Level 1
DESCRIPTION:The Wiggle Room: The Wiggle Room\, 3874 Saint-Laurent blvd. \norganized by Musical Improv Montreal \nMusical Improv Comedy is an exciting program that will provide you with the tools required for improvising within the framework of musical games\, invented songs\, short form scenes\, and full length improvised musical theatre shows. \nIn Musical Improv Level 1\, we’ll start to practice improvising music within structures that will make you look like a magician on stage. We will learn the basics of creating songs and applying them to improvised musical scenes. This is a fun and collaborative class where we build skills together as an ensemble\, with ongoing direction and feedback to help you flourish. This course will provide you with the initial training and foundational skills needed to begin building a strong musical improv practice. \nNo prerequisite\, Musical Fun Times is recommended. \nNEXT MUSICAL LEVEL 1: SUNDAYS\, 3:00-5:00pm\nMarch 8\, 15\, 22\, 29\n(No class April 5)\nApril 12\, 19\, 26\n(No class show)\nTaught by Adina Katz with John Gilbert on the keys\nAt The Wiggle Room
URL:https://yesandmtl.com/event/musical-improv-level-1-3/
LOCATION:The Wiggle Room\, 3874 St Laurent Blvd\, Montreal\, Quebec\, H2W 1Y2\, Canada
CATEGORIES:Workshops/Classes
END:VEVENT
END:VCALENDAR