BEGIN:VCALENDAR
VERSION:2.0
PRODID:-//Yes And MTL - ECPv6.15.17.1//NONSGML v1.0//EN
CALSCALE:GREGORIAN
METHOD:PUBLISH
X-ORIGINAL-URL:https://yesandmtl.com
X-WR-CALDESC:Events for Yes And MTL
REFRESH-INTERVAL;VALUE=DURATION:PT1H
X-Robots-Tag:noindex
X-PUBLISHED-TTL:PT1H
BEGIN:VTIMEZONE
TZID:America/Toronto
BEGIN:DAYLIGHT
TZOFFSETFROM:-0500
TZOFFSETTO:-0400
TZNAME:EDT
DTSTART:20250309T070000
END:DAYLIGHT
BEGIN:STANDARD
TZOFFSETFROM:-0400
TZOFFSETTO:-0500
TZNAME:EST
DTSTART:20251102T060000
END:STANDARD
BEGIN:DAYLIGHT
TZOFFSETFROM:-0500
TZOFFSETTO:-0400
TZNAME:EDT
DTSTART:20260308T070000
END:DAYLIGHT
BEGIN:STANDARD
TZOFFSETFROM:-0400
TZOFFSETTO:-0500
TZNAME:EST
DTSTART:20261101T060000
END:STANDARD
BEGIN:DAYLIGHT
TZOFFSETFROM:-0500
TZOFFSETTO:-0400
TZNAME:EDT
DTSTART:20270314T070000
END:DAYLIGHT
BEGIN:STANDARD
TZOFFSETFROM:-0400
TZOFFSETTO:-0500
TZNAME:EST
DTSTART:20271107T060000
END:STANDARD
END:VTIMEZONE
BEGIN:VEVENT
DTSTART;TZID=America/Toronto:20260429T180000
DTEND;TZID=America/Toronto:20260429T193000
DTSTAMP:20260419T144209
CREATED:20260415T040026Z
LAST-MODIFIED:20260415T040026Z
UID:1774-1777485600-1777491000@yesandmtl.com
SUMMARY:M Bar Improv: Wednesday Night Workshops
DESCRIPTION:Hotel M Montreal: 1245 rue Saint-André\norganized by mbarimprov \nThe M BAR welcomes you to its wonderful space every WEDNESDAY NIGHT from 6pm to 7:30pm\, for a fun\, engaging\, and interactive introduction to the skills of improvised comedy. \nWhether you’re a seasoned performer or just curious about improv\, our workshops offer a no-commitment opportunity to explore and enjoy the art of improvisation. \nCome meet new people\, learn new skills\, and share an evening of laughs with us in a relaxed\, and supportive environment. Only $5 per session – see you there! \nHotel M Montreal\n1245 rue St André\nWednesdays\, 6-7:30pm\n@mbarimprov \n‘One-drink minimum’ live comedy show afterwards at 8pm!
URL:https://yesandmtl.com/event/m-bar-improv-wednesday-night-workshops-96/
LOCATION:Quebec
CATEGORIES:Workshops/Classes
END:VEVENT
END:VCALENDAR